BEGIN:VCALENDAR
VERSION:2.0
PRODID:-//Squarespace Inc/Squarespace 6//v6//EN
BEGIN:VEVENT
UID:5f3b565e436ad856954cfdf4@squarespace.com
DTSTAMP:20200821T005150Z
DTSTART:20200818T230000Z
DTEND:20200819T020000Z
SUMMARY:Umbrella Foundation
END:VEVENT
END:VCALENDAR
