BEGIN:VCALENDAR
VERSION:2.0
PRODID:-//Squarespace Inc/Squarespace 6//v6//EN
BEGIN:VEVENT
UID:602da935191b542342f2ad88@squarespace.com
DTSTAMP:20210217T234759Z
DTSTART:20210325T233000Z
DTEND:20210326T043000Z
SUMMARY:Suicide Awareness and Prevention Training
END:VEVENT
END:VCALENDAR
