BEGIN:VCALENDAR
VERSION:2.0
PRODID:-//Squarespace Inc/Squarespace 6//v6//EN
BEGIN:VEVENT
UID:5fb504e7fd309f75dec4eb33@squarespace.com
DTSTAMP:20201118T115519Z
DTSTART:20201205T170000Z
DTEND:20201206T010000Z
SUMMARY:Run for the Children of Ashraya
END:VEVENT
END:VCALENDAR
