BEGIN:VCALENDAR
VERSION:2.0
PRODID:-//Squarespace Inc/Squarespace 6//v6//EN
BEGIN:VEVENT
UID:5f3b565e436ad856954cfdf8@squarespace.com
DTSTAMP:20200904T071205Z
DTSTART:20200912T010000Z
DTEND:20200912T050000Z
SUMMARY:DARA Cook-up
GEO:-32.926969;151.772292
LOCATION:Soul Cafe\, Hunter Street\, Newcastle\, NSW\, 2300\, Australia
END:VEVENT
END:VCALENDAR
