BEGIN:VCALENDAR
VERSION:2.0
PRODID:-//Squarespace Inc/Squarespace 6//v6//EN
BEGIN:VEVENT
UID:5f3b565e436ad856954cfdfc@squarespace.com
DTSTAMP:20201006T044338Z
DTSTART:20201113T223000Z
DTEND:20201113T233000Z
SUMMARY:DARA Bike program
END:VEVENT
END:VCALENDAR
