BEGIN:VCALENDAR
VERSION:2.0
PRODID:-//Squarespace Inc/Squarespace 6//v6//EN
BEGIN:VEVENT
UID:5f3f2a3a004bb2062bc1a033@squarespace.com
DTSTAMP:20200915T024112Z
DTSTART:20201005T203000Z
DTEND:20201005T213000Z
SUMMARY:Breakfast meeting
END:VEVENT
END:VCALENDAR
