BEGIN:VCALENDAR
VERSION:2.0
PRODID:-//Squarespace Inc/Squarespace 6//v6//EN
BEGIN:VEVENT
UID:6024b02eb724883f0bea15f5@squarespace.com
DTSTAMP:20210225T004323Z
DTSTART:20210301T200000Z
DTEND:20210301T213000Z
SUMMARY:Breakfast meeting
END:VEVENT
END:VCALENDAR
