BEGIN:VCALENDAR
VERSION:2.0
PRODID:-//Squarespace Inc/Squarespace 6//v6//EN
BEGIN:VEVENT
UID:5f7bf564a913e40d8083a110@squarespace.com
DTSTAMP:20210129T005653Z
DTSTART:20210201T200000Z
DTEND:20210201T213000Z
SUMMARY:Breakfast meeting
END:VEVENT
END:VCALENDAR
